BEGIN:VCALENDAR
VERSION:2.0
PRODID:-//Santhwanam UAE - ECPv6.15.20//NONSGML v1.0//EN
CALSCALE:GREGORIAN
METHOD:PUBLISH
X-WR-CALNAME:Santhwanam UAE
X-ORIGINAL-URL:https://santhwanamuae.org
X-WR-CALDESC:Events for Santhwanam UAE
REFRESH-INTERVAL;VALUE=DURATION:PT1H
X-Robots-Tag:noindex
X-PUBLISHED-TTL:PT1H
BEGIN:VTIMEZONE
TZID:Asia/Dubai
BEGIN:STANDARD
TZOFFSETFROM:+0400
TZOFFSETTO:+0400
TZNAME:+04
DTSTART:20210101T000000
END:STANDARD
END:VTIMEZONE
BEGIN:VEVENT
DTSTART;TZID=Asia/Dubai:20220917T080000
DTEND;TZID=Asia/Dubai:20220917T170000
DTSTAMP:20260424T201602
CREATED:20250726T064620Z
LAST-MODIFIED:20250726T092200Z
UID:2967-1663401600-1663434000@santhwanamuae.org
SUMMARY:Mothers Day
DESCRIPTION:Mothers Day
URL:https://santhwanamuae.org/event/mothers-day/
CATEGORIES:Mothers Day
ATTACH;FMTTYPE=image/jpeg:https://santhwanamuae.org/wp-content/uploads/2025/07/61394224_2338336079771629_1926675466597433344_n.jpg
END:VEVENT
END:VCALENDAR